BEGIN:VCALENDAR
VERSION:2.0
PRODID:-//George Weinstein - ECPv6.15.20//NONSGML v1.0//EN
CALSCALE:GREGORIAN
METHOD:PUBLISH
X-WR-CALNAME:George Weinstein
X-ORIGINAL-URL:https://www.georgeweinstein.com
X-WR-CALDESC:Events for George Weinstein
REFRESH-INTERVAL;VALUE=DURATION:PT1H
X-Robots-Tag:noindex
X-PUBLISHED-TTL:PT1H
BEGIN:VTIMEZONE
TZID:America/Halifax
BEGIN:DAYLIGHT
TZOFFSETFROM:-0400
TZOFFSETTO:-0300
TZNAME:ADT
DTSTART:20240310T060000
END:DAYLIGHT
BEGIN:STANDARD
TZOFFSETFROM:-0300
TZOFFSETTO:-0400
TZNAME:AST
DTSTART:20241103T050000
END:STANDARD
BEGIN:DAYLIGHT
TZOFFSETFROM:-0400
TZOFFSETTO:-0300
TZNAME:ADT
DTSTART:20250309T060000
END:DAYLIGHT
BEGIN:STANDARD
TZOFFSETFROM:-0300
TZOFFSETTO:-0400
TZNAME:AST
DTSTART:20251102T050000
END:STANDARD
BEGIN:DAYLIGHT
TZOFFSETFROM:-0400
TZOFFSETTO:-0300
TZNAME:ADT
DTSTART:20260308T060000
END:DAYLIGHT
BEGIN:STANDARD
TZOFFSETFROM:-0300
TZOFFSETTO:-0400
TZNAME:AST
DTSTART:20261101T050000
END:STANDARD
END:VTIMEZONE
BEGIN:VEVENT
DTSTART;TZID=America/Halifax:20251122T130000
DTEND;TZID=America/Halifax:20251122T150000
DTSTAMP:20260424T053051
CREATED:20250827T201623Z
LAST-MODIFIED:20250827T201623Z
UID:1637-1763816400-1763823600@www.georgeweinstein.com
SUMMARY:Poe & Co. Book Signing on November 22
DESCRIPTION:Kim Conrey and I will be greeting readers and signing all our books at Poe & Co. in Milton\, GA on Nov. 22nd from 1 pm to 3 pm.
URL:https://www.georgeweinstein.com/event/poe-co-book-signing-on-november-22/
LOCATION:Poe and Company Bookstore\, 1890 Heritage Walk\, Suite P101\, Milton\, GA\, 30004
CATEGORIES:Booksigning
END:VEVENT
END:VCALENDAR