BEGIN:VCALENDAR
VERSION:2.0
PRODID:-//George Weinstein - ECPv6.15.20//NONSGML v1.0//EN
CALSCALE:GREGORIAN
METHOD:PUBLISH
X-WR-CALNAME:George Weinstein
X-ORIGINAL-URL:https://www.georgeweinstein.com
X-WR-CALDESC:Events for George Weinstein
REFRESH-INTERVAL;VALUE=DURATION:PT1H
X-Robots-Tag:noindex
X-PUBLISHED-TTL:PT1H
BEGIN:VTIMEZONE
TZID:America/Halifax
BEGIN:DAYLIGHT
TZOFFSETFROM:-0400
TZOFFSETTO:-0300
TZNAME:ADT
DTSTART:20240310T060000
END:DAYLIGHT
BEGIN:STANDARD
TZOFFSETFROM:-0300
TZOFFSETTO:-0400
TZNAME:AST
DTSTART:20241103T050000
END:STANDARD
BEGIN:DAYLIGHT
TZOFFSETFROM:-0400
TZOFFSETTO:-0300
TZNAME:ADT
DTSTART:20250309T060000
END:DAYLIGHT
BEGIN:STANDARD
TZOFFSETFROM:-0300
TZOFFSETTO:-0400
TZNAME:AST
DTSTART:20251102T050000
END:STANDARD
BEGIN:DAYLIGHT
TZOFFSETFROM:-0400
TZOFFSETTO:-0300
TZNAME:ADT
DTSTART:20260308T060000
END:DAYLIGHT
BEGIN:STANDARD
TZOFFSETFROM:-0300
TZOFFSETTO:-0400
TZNAME:AST
DTSTART:20261101T050000
END:STANDARD
END:VTIMEZONE
BEGIN:VEVENT
DTSTART;TZID=America/Halifax:20250301T090000
DTEND;TZID=America/Halifax:20250301T170000
DTSTAMP:20260424T200944
CREATED:20250208T154409Z
LAST-MODIFIED:20250208T154409Z
UID:1608-1740819600-1740848400@www.georgeweinstein.com
SUMMARY:Dahlonega Literary Festival
DESCRIPTION:11:00-11:50: “You’re Not a Murderer: You Have Harm OCD” – author Kim Conrey – Moderator: Jacob Appel. Rm. 105 \n2:00- 2:50: Panel: “The Jury’s Out – Do Lawyers Make Good Authors?” –  authors Jameson Gregg\, Wanda Morris\, McCracken Poston\, Jr.\, Moderator: George Weinstein. Sanctuary \nPlus plenty of other talks\, along with a luncheon and a keynote by the fabulous Rick Bragg!
URL:https://www.georgeweinstein.com/event/dahlonega-literary-festival-2/
LOCATION:Dahlonega Baptist Church\, 234 Hawkins Street\, Dahlonega\, GA
CATEGORIES:Invited Talk
END:VEVENT
END:VCALENDAR