BEGIN:VCALENDAR
VERSION:2.0
PRODID:-//George Weinstein - ECPv6.15.20//NONSGML v1.0//EN
CALSCALE:GREGORIAN
METHOD:PUBLISH
X-WR-CALNAME:George Weinstein
X-ORIGINAL-URL:https://www.georgeweinstein.com
X-WR-CALDESC:Events for George Weinstein
REFRESH-INTERVAL;VALUE=DURATION:PT1H
X-Robots-Tag:noindex
X-PUBLISHED-TTL:PT1H
BEGIN:VTIMEZONE
TZID:UTC
BEGIN:STANDARD
TZOFFSETFROM:+0000
TZOFFSETTO:+0000
TZNAME:UTC
DTSTART:20160101T000000
END:STANDARD
END:VTIMEZONE
BEGIN:VEVENT
DTSTART;TZID=UTC:20200608T150000
DTEND;TZID=UTC:20200608T180000
DTSTAMP:20260424T111119
CREATED:20200121T204315Z
LAST-MODIFIED:20200121T204315Z
UID:1030-1591628400-1591639200@www.georgeweinstein.com
SUMMARY:Guest Author Appearance at Georgia Library Media Assoc. Conference
DESCRIPTION:I’ll be a guest author chatting with attendees about my books.
URL:https://www.georgeweinstein.com/event/guest-author-appearance-at-georgia-library-media-assoc-conference/
LOCATION:Crowne Plaza – Peachtree City
CATEGORIES:Invited Talk
END:VEVENT
BEGIN:VEVENT
DTSTART;TZID=UTC:20200602T190000
DTEND;TZID=UTC:20200602T210000
DTSTAMP:20260424T111119
CREATED:20200205T175112Z
LAST-MODIFIED:20200205T175112Z
UID:1055-1591124400-1591131600@www.georgeweinstein.com
SUMMARY:Book Talk at Bookmiser - Marietta
DESCRIPTION:I’ll be discussing Watch What You Say with the Bookmiser Book Club.
URL:https://www.georgeweinstein.com/event/book-talk-at-bookmiser-marietta/
LOCATION:Bookmiser\, 3822 Roswell Rd\,\, Marietta\, GA\, 30062\, United States
CATEGORIES:Book Club Talk
END:VEVENT
BEGIN:VEVENT
DTSTART;TZID=UTC:20200530T090000
DTEND;TZID=UTC:20200530T120000
DTSTAMP:20260424T111119
CREATED:20200105T023741Z
LAST-MODIFIED:20200105T023741Z
UID:1014-1590829200-1590840000@www.georgeweinstein.com
SUMMARY:Georgia Writers Museum Workshop
DESCRIPTION:I’ll present a workshop about the Pros and Cons of Writing Multiple Genres. Many writers early in their journey dabble in one area of fiction or nonfiction and then another\, hoping something with strike a chord with publishers and then with readers. There are advantages to this approach but also some disadvantages to consider. In this workshop\, we’ll explore both sides in detail and determine a strategy for participants who are determined to continue to write multiple genres and those who choose to focus on a single genre.\n\nTo RSVP\, call (706) 991-5119.
URL:https://www.georgeweinstein.com/event/georgia-writers-museum-workshop/
LOCATION:Georgia Writers Museum\, 109 S Jefferson Ave.\, Eatonton\, GA\, 31024\, United States
CATEGORIES:Invited Talk
END:VEVENT
BEGIN:VEVENT
DTSTART;TZID=UTC:20200518T190000
DTEND;TZID=UTC:20200518T210000
DTSTAMP:20260424T111119
CREATED:20200128T165048Z
LAST-MODIFIED:20200128T165048Z
UID:1035-1589828400-1589835600@www.georgeweinstein.com
SUMMARY:Orchards of Big Creek Book Club - Alpharetta
DESCRIPTION:I’ll be discussing Hardscrabble Road with the Orchards of Big Creek Book Club.
URL:https://www.georgeweinstein.com/event/orchards-of-big-creek-book-club-alpharetta/
LOCATION:GA
CATEGORIES:Book Club Talk
END:VEVENT
BEGIN:VEVENT
DTSTART;TZID=UTC:20200511T130000
DTEND;TZID=UTC:20200511T150000
DTSTAMP:20260424T111119
CREATED:20200128T165230Z
LAST-MODIFIED:20200128T165230Z
UID:1037-1589202000-1589209200@www.georgeweinstein.com
SUMMARY:Academy Park Book Club - Alpharetta
DESCRIPTION:I’ll be discussing Watch What You Say with the Academy Park Book Club
URL:https://www.georgeweinstein.com/event/academy-park-book-club-alpharetta/
LOCATION:GA
CATEGORIES:Book Club Talk
END:VEVENT
BEGIN:VEVENT
DTSTART;TZID=UTC:20200413T180000
DTEND;TZID=UTC:20200413T200000
DTSTAMP:20260424T111119
CREATED:20200204T003035Z
LAST-MODIFIED:20200204T003035Z
UID:1053-1586800800-1586808000@www.georgeweinstein.com
SUMMARY:Book Talk at Marietta Book Exchange Book Club
DESCRIPTION:I’ll discuss the story behind Hardscrabble Road with the Marietta Book Exchange book club!
URL:https://www.georgeweinstein.com/event/book-talk-at-marietta-book-exchange-book-club/
LOCATION:Book Exchange-Marietta\, 2932 Canton Rd # 220\, Marietta\, GA\, 30066\, United States
CATEGORIES:Book Club Talk
END:VEVENT
BEGIN:VEVENT
DTSTART;TZID=UTC:20200411T113000
DTEND;TZID=UTC:20200411T140000
DTSTAMP:20260424T111119
CREATED:20200116T182458Z
LAST-MODIFIED:20200116T182458Z
UID:1024-1586604600-1586613600@www.georgeweinstein.com
SUMMARY:Book Ends Book Club Talk
DESCRIPTION:I’ll be discussing Watch What You Say with my loyal super-fans\, the Book Ends book club!
URL:https://www.georgeweinstein.com/event/book-ends-book-club-talk/
LOCATION:GA
CATEGORIES:Book Club Talk
END:VEVENT
BEGIN:VEVENT
DTSTART;TZID=UTC:20200404T140000
DTEND;TZID=UTC:20200404T160000
DTSTAMP:20260424T111119
CREATED:20200120T173231Z
LAST-MODIFIED:20200120T173231Z
UID:1026-1586008800-1586016000@www.georgeweinstein.com
SUMMARY:Atlanta Authors Series Talk - sponsored by the Friends of the Roswell Library
DESCRIPTION:I’ll discuss my writing process and journey as well as the story behind the stories of my books\, including my latest\, Watch What You Say.
URL:https://www.georgeweinstein.com/event/atlanta-authors-series-talk-sponsored-by-the-friends-of-the-roswell-library/
LOCATION:Roswell Public Library\, 115 Norcross St.\, Roswell\, GA\, 30075\, United States
CATEGORIES:Invited Talk
END:VEVENT
BEGIN:VEVENT
DTSTART;TZID=UTC:20200328T100000
DTEND;TZID=UTC:20200328T150000
DTSTAMP:20260424T111119
CREATED:20200130T024631Z
LAST-MODIFIED:20200130T024631Z
UID:1041-1585389600-1585407600@www.georgeweinstein.com
SUMMARY:Posman Books at Ponce City Market - Atlanta
DESCRIPTION:I’ll be signing all five of my novels.
URL:https://www.georgeweinstein.com/event/posman-books-at-ponce-city-market-atlanta/
LOCATION:Ponce City Market Posman Books\, 675 Ponce De Leon Ave NE\, C197\, Atlanta\, GA\, 30308
CATEGORIES:Booksigning
END:VEVENT
BEGIN:VEVENT
DTSTART;TZID=UTC:20200319T140000
DTEND;TZID=UTC:20200319T153000
DTSTAMP:20260424T111119
CREATED:20200107T045944Z
LAST-MODIFIED:20200107T045944Z
UID:1018-1584626400-1584631800@www.georgeweinstein.com
SUMMARY:Decatur-DeKalb Retired Educators Association Writing Workshop
DESCRIPTION:On behalf of the Decatur-DeKalb Retired Educators Association (DDREA)\, I will offer a 1-hour workshop on the writing of memorable stories from past experiences.
URL:https://www.georgeweinstein.com/event/decatur-dekalb-retired-educators-association-writing-workshop/
LOCATION:Decatur First Christian Church\, 601 W Ponce de Leon Avenue\, Decatur\, GA\, 30030\, United States
CATEGORIES:Invited Talk
END:VEVENT
BEGIN:VEVENT
DTSTART;TZID=UTC:20200309T193000
DTEND;TZID=UTC:20200309T220000
DTSTAMP:20260424T111119
CREATED:20200207T041003Z
LAST-MODIFIED:20200207T041003Z
UID:1060-1583782200-1583791200@www.georgeweinstein.com
SUMMARY:Book Club Talk in Brookhaven
DESCRIPTION:I’ll be talking about Watch What You Say.
URL:https://www.georgeweinstein.com/event/book-club-talk-in-brookhaven/
LOCATION:GA
CATEGORIES:Book Club Talk
END:VEVENT
BEGIN:VEVENT
DTSTART;TZID=UTC:20200309T140000
DTEND;TZID=UTC:20200309T160000
DTSTAMP:20260424T111119
CREATED:20200207T040850Z
LAST-MODIFIED:20200207T040850Z
UID:1058-1583762400-1583769600@www.georgeweinstein.com
SUMMARY:Book Club Talk in Johns Creek
DESCRIPTION:I’ll be talking about Hardscrabble Road.
URL:https://www.georgeweinstein.com/event/book-club-talk-in-johns-creek/
LOCATION:GA
CATEGORIES:Book Club Talk
END:VEVENT
BEGIN:VEVENT
DTSTART;TZID=UTC:20200229T100000
DTEND;TZID=UTC:20200229T140000
DTSTAMP:20260424T111119
CREATED:20200128T165406Z
LAST-MODIFIED:20200209T223855Z
UID:1039-1582970400-1582984800@www.georgeweinstein.com
SUMMARY:Posman Books at Avalon - Alpharetta
DESCRIPTION:I’ll be selling all 5 of my titles!
URL:https://www.georgeweinstein.com/event/posman-books-at-avalon-alpharetta/
LOCATION:Avalon Posman Books\, 4105 Avalon Blvd.\, Alpharetta\, GA\, 30009\, United States
CATEGORIES:Booksigning
END:VEVENT
BEGIN:VEVENT
DTSTART;TZID=UTC:20191223T100000
DTEND;TZID=UTC:20191223T140000
DTSTAMP:20260424T111119
CREATED:20191122T020806Z
LAST-MODIFIED:20191220T144300Z
UID:986-1577095200-1577109600@www.georgeweinstein.com
SUMMARY:Read It Again Book Signing
DESCRIPTION:
URL:https://www.georgeweinstein.com/event/read-it-again-book-signing/
LOCATION:Read It Again Books\, 3630 Peachtree Pkwy # 314\, Suwanee\, GA\, 30024\, United States
CATEGORIES:Booksigning
END:VEVENT
BEGIN:VEVENT
DTSTART;TZID=UTC:20191222T110000
DTEND;TZID=UTC:20191222T180000
DTSTAMP:20260424T111119
CREATED:20190901T025758Z
LAST-MODIFIED:20191220T144211Z
UID:937-1577012400-1577037600@www.georgeweinstein.com
SUMMARY:Book Signing - Posman Books at Ponce City Market
DESCRIPTION:Holiday book signing–signed\, personalized books make great gifts\, y’all!
URL:https://www.georgeweinstein.com/event/book-signing-posman-books-3/
LOCATION:Ponce City Market Posman Books\, 675 Ponce De Leon Ave NE\, C197\, Atlanta\, GA\, 30308
CATEGORIES:Booksigning
END:VEVENT
BEGIN:VEVENT
DTSTART;TZID=UTC:20191221T170000
DTEND;TZID=UTC:20191221T210000
DTSTAMP:20260424T111119
CREATED:20191220T144132Z
LAST-MODIFIED:20191220T144339Z
UID:1002-1576947600-1576962000@www.georgeweinstein.com
SUMMARY:Book Signing - Posman Books at Avalon
DESCRIPTION:December 21 @ 5:00 – 9:00 pm\n\n\nHoliday book signing–signed\, personalized books make great gifts\, y’all!
URL:https://www.georgeweinstein.com/event/book-signing-posman-books-at-avalon/
LOCATION:Avalon Posman Books\, 4105 Avalon Blvd.\, Alpharetta\, GA\, 30009\, United States
CATEGORIES:Booksigning
END:VEVENT
BEGIN:VEVENT
DTSTART;TZID=UTC:20191214T100000
DTEND;TZID=UTC:20191214T180000
DTSTAMP:20260424T111119
CREATED:20190901T024711Z
LAST-MODIFIED:20190901T024711Z
UID:930-1576317600-1576346400@www.georgeweinstein.com
SUMMARY:Book Signing - Posman Books
DESCRIPTION:Holiday book signing–signed\, personalized books make great gifts\, y’all!
URL:https://www.georgeweinstein.com/event/book-signing-posman-books-2/
LOCATION:Ponce City Market Posman Books\, 675 Ponce De Leon Ave NE\, C197\, Atlanta\, GA\, 30308
CATEGORIES:Booksigning
END:VEVENT
BEGIN:VEVENT
DTSTART;TZID=UTC:20191208T110000
DTEND;TZID=UTC:20191208T160000
DTSTAMP:20260424T111119
CREATED:20191105T021246Z
LAST-MODIFIED:20191105T021246Z
UID:964-1575802800-1575820800@www.georgeweinstein.com
SUMMARY:Booksigning at Avalon Posman Books
DESCRIPTION:I’ll be signing my books\, including the new suspense thriller Watch What You Say\, from morning through the afternoon.
URL:https://www.georgeweinstein.com/event/booksigning-at-avalon-posman-books/
LOCATION:Avalon Posman Books\, 4105 Avalon Blvd.\, Alpharetta\, GA\, 30009\, United States
CATEGORIES:Booksigning
END:VEVENT
BEGIN:VEVENT
DTSTART;TZID=UTC:20191207T170000
DTEND;TZID=UTC:20191207T180000
DTSTAMP:20260424T111119
CREATED:20190901T025636Z
LAST-MODIFIED:20190901T025636Z
UID:934-1575738000-1575741600@www.georgeweinstein.com
SUMMARY:Authors & Artists Holiday Fair
DESCRIPTION:Holiday book signing–signed\, personalized books make great gifts\, y’all!
URL:https://www.georgeweinstein.com/event/authors-artists-holiday-fair/
LOCATION:Johns Creek Books & Gifts\, 6000 Medlock Bridge Pkwy Suite B500\, Johns Creek\, GA\, 30022
CATEGORIES:Booksigning
END:VEVENT
BEGIN:VEVENT
DTSTART;TZID=UTC:20191207T120000
DTEND;TZID=UTC:20191207T160000
DTSTAMP:20260424T111119
CREATED:20190901T024937Z
LAST-MODIFIED:20191207T011032Z
UID:932-1575720000-1575734400@www.georgeweinstein.com
SUMMARY:Book Launch for Watch What You Say - FoxTale Book Shoppe/Woodstock
DESCRIPTION:Book launch of Watch What You Say for northside readers
URL:https://www.georgeweinstein.com/event/book-launch-for-watch-what-you-say-northside/
LOCATION:FoxTale Book Shoppe\, 105 E Main St.\, Woodstock\, GA\, 30188\, United States
CATEGORIES:Booksigning
END:VEVENT
BEGIN:VEVENT
DTSTART;TZID=UTC:20191130T130000
DTEND;TZID=UTC:20191130T140000
DTSTAMP:20260424T111119
CREATED:20191124T020436Z
LAST-MODIFIED:20191109T175825Z
UID:959-1575118800-1575122400@www.georgeweinstein.com
SUMMARY:Book Signing at Eagle Eye Book Shop
DESCRIPTION:I’ll present a talk about my new suspense thriller Watch What You Say and remain on-hand to sign books thereafter.
URL:https://www.georgeweinstein.com/event/book-signing-at-book-exchange-marietta/
LOCATION:Eagle Eye Book Shop\, 2076 N Decatur Rd.\, Decatur\, GA\, 30033\, United States
CATEGORIES:Booksigning
END:VEVENT
BEGIN:VEVENT
DTSTART;TZID=UTC:20191130T130000
DTEND;TZID=UTC:20191130T140000
DTSTAMP:20260424T111119
CREATED:20191109T180036Z
LAST-MODIFIED:20191109T180036Z
UID:975-1575118800-1575122400@www.georgeweinstein.com
SUMMARY:Book Signing at Eagle Eye Book Shop-Decatur
DESCRIPTION:I’ll present a talk about my new suspense thriller Watch What You Say and remain on-hand to sign books thereafter.
URL:https://www.georgeweinstein.com/event/book-signing-at-eagle-eye-book-shop-decatur/
LOCATION:Eagle Eye Book Shop\, 2076 N Decatur Rd.\, Decatur\, GA\, 30033\, United States
CATEGORIES:Booksigning
END:VEVENT
BEGIN:VEVENT
DTSTART;TZID=UTC:20191123T120000
DTEND;TZID=UTC:20191123T160000
DTSTAMP:20260424T111119
CREATED:20191109T175916Z
LAST-MODIFIED:20191109T175916Z
UID:973-1574510400-1574524800@www.georgeweinstein.com
SUMMARY:Book Signing at Book Exchange-Marietta
DESCRIPTION:I’ll present a talk about my new suspense thriller Watch What You Say and remain on-hand to sign books for hours thereafter.
URL:https://www.georgeweinstein.com/event/book-signing-at-book-exchange-marietta-2/
LOCATION:Book Exchange-Marietta\, 2932 Canton Rd # 220\, Marietta\, GA\, 30066\, United States
CATEGORIES:Booksigning
END:VEVENT
BEGIN:VEVENT
DTSTART;TZID=UTC:20191109T100000
DTEND;TZID=UTC:20191109T160000
DTSTAMP:20260424T111119
CREATED:20191105T020720Z
LAST-MODIFIED:20191105T020720Z
UID:962-1573293600-1573315200@www.georgeweinstein.com
SUMMARY:Book Signing at Posman Ponce City Market
DESCRIPTION:I’ll be signing my books\, including the new suspense thriller Watch What You Say\, from morning through the afternoon.
URL:https://www.georgeweinstein.com/event/book-signing-at-posman-ponce-city-market/
LOCATION:Ponce City Market Posman Books\, 675 Ponce De Leon Ave NE\, C197\, Atlanta\, GA\, 30308
CATEGORIES:Booksigning
END:VEVENT
BEGIN:VEVENT
DTSTART;TZID=UTC:20191019T160000
DTEND;TZID=UTC:20191019T180000
DTSTAMP:20260424T111119
CREATED:20190901T023616Z
LAST-MODIFIED:20190901T023616Z
UID:924-1571500800-1571508000@www.georgeweinstein.com
SUMMARY:Watch What You Say Book Launch
DESCRIPTION:Southern Fried Karma Press Launch Party for my suspense thriller Watch What You Say.
URL:https://www.georgeweinstein.com/event/watch-what-you-say-book-launch/
LOCATION:Georgia State University – Dunwoody Perimeter College\, 2101 Womack Rd\, Bldg. NB Upper Floor\, Dunwoody\, GA\, 30338
CATEGORIES:Book Launch
END:VEVENT
BEGIN:VEVENT
DTSTART;TZID=UTC:20191001T113000
DTEND;TZID=UTC:20191001T133000
DTSTAMP:20260424T111119
CREATED:20190901T022841Z
LAST-MODIFIED:20190901T022841Z
UID:921-1569929400-1569936600@www.georgeweinstein.com
SUMMARY:Book Club Talk
DESCRIPTION:Discussion of Hardscrabble Road
URL:https://www.georgeweinstein.com/event/book-club-talk-2-2/
LOCATION:Gainesville – Leigh Wilson\, Gainesville
CATEGORIES:Book Club Talk
END:VEVENT
BEGIN:VEVENT
DTSTART;TZID=UTC:20190919T130000
DTEND;TZID=UTC:20190919T140000
DTSTAMP:20260424T111119
CREATED:20190901T022453Z
LAST-MODIFIED:20190901T022453Z
UID:918-1568898000-1568901600@www.georgeweinstein.com
SUMMARY:Author Presentation - Roswell
DESCRIPTION:Presentation to Seniors Enriched Living participants about my writing journey
URL:https://www.georgeweinstein.com/event/author-presentation-roswell/
LOCATION:Roswell UMC\, 814 Mimosa Blvd\, Roswell\, GA\, 30075
CATEGORIES:Invited Talk
END:VEVENT
BEGIN:VEVENT
DTSTART;TZID=UTC:20190917T180000
DTEND;TZID=UTC:20190917T200000
DTSTAMP:20260424T111119
CREATED:20190901T021855Z
LAST-MODIFIED:20190901T021855Z
UID:915-1568743200-1568750400@www.georgeweinstein.com
SUMMARY:Book Club Talk - Woodstock
DESCRIPTION:Discussion with book club about where I get my ideas
URL:https://www.georgeweinstein.com/event/book-club-talk-woodstock/
LOCATION:The Cottages
CATEGORIES:Book Club Talk
END:VEVENT
BEGIN:VEVENT
DTSTART;TZID=UTC:20190831T080000
DTEND;TZID=UTC:20190831T170000
DTSTAMP:20260424T111119
CREATED:20190901T024334Z
LAST-MODIFIED:20190901T024334Z
UID:927-1567238400-1567270800@www.georgeweinstein.com
SUMMARY:Book Signing - Posman Books
DESCRIPTION:First public signing for Watch What You Say.
URL:https://www.georgeweinstein.com/event/book-signing-posman-books/
LOCATION:Ponce City Market Posman Books\, 675 Ponce De Leon Ave NE\, C197\, Atlanta\, GA\, 30308
CATEGORIES:Booksigning
END:VEVENT
BEGIN:VEVENT
DTSTART;TZID=UTC:20171013T110000
DTEND;TZID=UTC:20171013T133000
DTSTAMP:20260424T111119
CREATED:20170525T012446Z
LAST-MODIFIED:20170525T012446Z
UID:642-1507892400-1507901400@www.georgeweinstein.com
SUMMARY:Books & Brunch Talk - Gainesville\, GA
DESCRIPTION:I will be addressing the Gainesville chapter of PEO International (“Women helping women reach for the stars”) at their annual Books and Brunch event. This is open to the public. Tickets can be purchased at the PEO Georgia Chapter website.
URL:https://www.georgeweinstein.com/event/books-brunch-talk-gainesville-ga/
LOCATION:First Methodist Church of Gainesville\, 2780 Thompson Bridge Rd.\, Gainesville\, GA\, 30506\, United States
CATEGORIES:Invited Talk
END:VEVENT
END:VCALENDAR