BEGIN:VCALENDAR
VERSION:2.0
PRODID:-//George Weinstein - ECPv6.15.20//NONSGML v1.0//EN
CALSCALE:GREGORIAN
METHOD:PUBLISH
X-WR-CALNAME:George Weinstein
X-ORIGINAL-URL:https://www.georgeweinstein.com
X-WR-CALDESC:Events for George Weinstein
REFRESH-INTERVAL;VALUE=DURATION:PT1H
X-Robots-Tag:noindex
X-PUBLISHED-TTL:PT1H
BEGIN:VTIMEZONE
TZID:UTC
BEGIN:STANDARD
TZOFFSETFROM:+0000
TZOFFSETTO:+0000
TZNAME:UTC
DTSTART:20200101T000000
END:STANDARD
END:VTIMEZONE
BEGIN:VTIMEZONE
TZID:America/Halifax
BEGIN:DAYLIGHT
TZOFFSETFROM:-0400
TZOFFSETTO:-0300
TZNAME:ADT
DTSTART:20220313T060000
END:DAYLIGHT
BEGIN:STANDARD
TZOFFSETFROM:-0300
TZOFFSETTO:-0400
TZNAME:AST
DTSTART:20221106T050000
END:STANDARD
BEGIN:DAYLIGHT
TZOFFSETFROM:-0400
TZOFFSETTO:-0300
TZNAME:ADT
DTSTART:20230312T060000
END:DAYLIGHT
BEGIN:STANDARD
TZOFFSETFROM:-0300
TZOFFSETTO:-0400
TZNAME:AST
DTSTART:20231105T050000
END:STANDARD
BEGIN:DAYLIGHT
TZOFFSETFROM:-0400
TZOFFSETTO:-0300
TZNAME:ADT
DTSTART:20240310T060000
END:DAYLIGHT
BEGIN:STANDARD
TZOFFSETFROM:-0300
TZOFFSETTO:-0400
TZNAME:AST
DTSTART:20241103T050000
END:STANDARD
END:VTIMEZONE
BEGIN:VEVENT
DTSTART;TZID=UTC:20230722T110000
DTEND;TZID=UTC:20230722T130000
DTSTAMP:20260424T000302
CREATED:20230418T190427Z
LAST-MODIFIED:20230418T190427Z
UID:1386-1690023600-1690030800@www.georgeweinstein.com
SUMMARY:Poe and Company Book Signing
DESCRIPTION:Kim Conrey and I will be meeting readers and signing books at Poe and Company in Milton\, GA.
URL:https://www.georgeweinstein.com/event/poe-and-company-book-signing/
LOCATION:Poe and Company Bookstore\, 1890 Heritage Walk\, Suite P101\, Milton\, GA\, 30004
CATEGORIES:Booksigning
END:VEVENT
BEGIN:VEVENT
DTSTART;TZID=America/Halifax:20230621T080000
DTEND;TZID=America/Halifax:20230621T170000
DTSTAMP:20260424T000302
CREATED:20230621T141922Z
LAST-MODIFIED:20230621T141922Z
UID:1436-1687334400-1687366800@www.georgeweinstein.com
SUMMARY:Talk at the Midtown Atlanta Rotary Club
DESCRIPTION:I’ll be discussing the importance of telling our stories and how I’ve helped others do this through my personal service and through the Atlanta Writers Club
URL:https://www.georgeweinstein.com/event/talk-at-the-midtown-atlanta-rotary-club/
LOCATION:Ansley Golf Club\, 196 Montgomery Ferry Dr NE\, Atlanta\, GA\, 30309
CATEGORIES:Invited Talk
END:VEVENT
BEGIN:VEVENT
DTSTART;TZID=UTC:20230603T103000
DTEND;TZID=UTC:20230603T150000
DTSTAMP:20260424T000302
CREATED:20230511T175156Z
LAST-MODIFIED:20230511T175156Z
UID:1393-1685788200-1685804400@www.georgeweinstein.com
SUMMARY:Posman Books Signing
DESCRIPTION:Kim and I will be meeting readers and signing books at the fabulous Posman Books at The Avalon.
URL:https://www.georgeweinstein.com/event/posman-books-signing/
LOCATION:Avalon Posman Books\, 4105 Avalon Blvd.\, Alpharetta\, GA\, 30009\, United States
CATEGORIES:Booksigning
END:VEVENT
BEGIN:VEVENT
DTSTART;TZID=UTC:20230527T100000
DTEND;TZID=UTC:20230528T170000
DTSTAMP:20260424T000302
CREATED:20230406T052643Z
LAST-MODIFIED:20230406T053042Z
UID:1372-1685181600-1685293200@www.georgeweinstein.com
SUMMARY:Alpharetta Arts Streetfest
DESCRIPTION:Kim\, Ben Meeks\, and I will be signing for two days on Memorial Day weekend at The Grove at Wills Park located behind the Alpharetta Community Center\, 175 Roswell St.
URL:https://www.georgeweinstein.com/event/alpharetta-arts-streetfest/
LOCATION:GA
CATEGORIES:Booksigning
END:VEVENT
BEGIN:VEVENT
DTSTART;TZID=UTC:20230509T190000
DTEND;TZID=UTC:20230509T210000
DTSTAMP:20260424T000302
CREATED:20230320T233341Z
LAST-MODIFIED:20230324T180943Z
UID:1349-1683658800-1683666000@www.georgeweinstein.com
SUMMARY:Book Club Talk
DESCRIPTION:I’ll be discussing Return to Hardscrabble Road in Dunwoody with a book club.
URL:https://www.georgeweinstein.com/event/book-club-talk-2-5/
LOCATION:GA
CATEGORIES:Book Club Talk
END:VEVENT
BEGIN:VEVENT
DTSTART;TZID=UTC:20230427T190000
DTEND;TZID=UTC:20230427T210000
DTSTAMP:20260424T000302
CREATED:20230325T011429Z
LAST-MODIFIED:20230325T011429Z
UID:1351-1682622000-1682629200@www.georgeweinstein.com
SUMMARY:Book Club Talk
DESCRIPTION:I’ll be discussing Hardscrabble Road with a book club in Atlanta.
URL:https://www.georgeweinstein.com/event/book-club-talk-2-6/
LOCATION:GA
END:VEVENT
BEGIN:VEVENT
DTSTART;TZID=UTC:20230423T120000
DTEND;TZID=UTC:20230423T170000
DTSTAMP:20260424T000302
CREATED:20230406T051118Z
LAST-MODIFIED:20230406T052415Z
UID:1368-1682251200-1682269200@www.georgeweinstein.com
SUMMARY:Lemonade Days Arts Festival
DESCRIPTION:Kim Conrey and I will be selling books and volunteering at the bookstore set up for Lemonade Days in Dunwoody\, Brook Run Park.
URL:https://www.georgeweinstein.com/event/lemonade-days-arts-festival/
LOCATION:GA
CATEGORIES:Booksigning
END:VEVENT
BEGIN:VEVENT
DTSTART;TZID=UTC:20230422T100000
DTEND;TZID=UTC:20230422T170000
DTSTAMP:20260424T000302
CREATED:20230110T080208Z
LAST-MODIFIED:20230110T080208Z
UID:1312-1682157600-1682182800@www.georgeweinstein.com
SUMMARY:Book Signing at Cumming City Center Spring Market
DESCRIPTION:My wife Kim Conrey and I will be selling and signing our books at the Cumming City Center Spring Market with author Ben Meeks.
URL:https://www.georgeweinstein.com/event/book-signing-at-cumming-city-center-spring-market/
LOCATION:Cumming City Center Spring Market\, 423 Canton Rd.\, Cumming\, GA\, 30040\, United States
CATEGORIES:Booksigning
END:VEVENT
BEGIN:VEVENT
DTSTART;TZID=UTC:20230416T090000
DTEND;TZID=UTC:20230416T170000
DTSTAMP:20260424T000302
CREATED:20230406T050540Z
LAST-MODIFIED:20230406T050540Z
UID:1365-1681635600-1681664400@www.georgeweinstein.com
SUMMARY:Bear on the Square Arts Festival
DESCRIPTION:My wife Kim Conrey and I will be selling and signing our books outside Bear Book Market during the Bear on the Square festival with author Ben Meeks.
URL:https://www.georgeweinstein.com/event/bear-on-the-square-arts-festival/
LOCATION:Bear Book Market\, 85 E Main St.\, Dahlonega\, GA\, 30533
CATEGORIES:Booksigning
END:VEVENT
BEGIN:VEVENT
DTSTART;TZID=UTC:20230411T103000
DTEND;TZID=UTC:20230411T120000
DTSTAMP:20260424T000302
CREATED:20230118T071029Z
LAST-MODIFIED:20230406T042257Z
UID:1331-1681209000-1681214400@www.georgeweinstein.com
SUMMARY:Roswell Women's Club Book Club Talk
DESCRIPTION:I’ll be discussing Hardscrabble Road with the Roswell Women’s Club Book Club.
URL:https://www.georgeweinstein.com/event/roswell-womens-club-book-club-talk/
LOCATION:Roswell Public Library\, 115 Norcross St.\, Roswell\, GA\, 30075\, United States
CATEGORIES:Book Club Talk
END:VEVENT
BEGIN:VEVENT
DTSTART;TZID=UTC:20230401T103000
DTEND;TZID=UTC:20230401T160000
DTSTAMP:20260424T000302
CREATED:20230212T200422Z
LAST-MODIFIED:20230212T200422Z
UID:1345-1680345000-1680364800@www.georgeweinstein.com
SUMMARY:Book Signing at Posman Books - Avalon
DESCRIPTION:Kim and I will be selling and signing our books at Posman at The Avalon. Drop by and be April Fools with us!
URL:https://www.georgeweinstein.com/event/book-signing-at-posman-books-avalon-3/
LOCATION:Avalon Posman Books\, 4105 Avalon Blvd.\, Alpharetta\, GA\, 30009\, United States
CATEGORIES:Booksigning
END:VEVENT
BEGIN:VEVENT
DTSTART;TZID=UTC:20230316T190000
DTEND;TZID=UTC:20230316T210000
DTSTAMP:20260424T000302
CREATED:20230114T013213Z
LAST-MODIFIED:20230114T013213Z
UID:1326-1678993200-1679000400@www.georgeweinstein.com
SUMMARY:Public\, Free Book Talk: Why We Read and Write Historical Fiction
DESCRIPTION:I will discuss my experiences reading and writing historical fiction (including Hardscrabble Road\, Return to Hardscrabble Road\, and The Five Destinies of Carlos Moreno) at this free event\, open to the public.
URL:https://www.georgeweinstein.com/event/public-free-book-talk-why-we-read-and-write-historical-fiction/
LOCATION:Suwanee Branch Library\, 361 Main St.\, Suwanee\, GA\, 30024
CATEGORIES:Invited Talk
END:VEVENT
BEGIN:VEVENT
DTSTART;TZID=UTC:20230224T180000
DTEND;TZID=UTC:20230226T170000
DTSTAMP:20260424T000302
CREATED:20230113T222752Z
LAST-MODIFIED:20230113T222752Z
UID:1324-1677261600-1677430800@www.georgeweinstein.com
SUMMARY:Georgia Writers Museum 2nd Annual Writers Retreat
DESCRIPTION:I’ll be on a panel discussing critique groups and helping workshopping participants in a critique group session.
URL:https://www.georgeweinstein.com/event/georgia-writers-museum-2nd-annual-writers-retreat/
LOCATION:Georgia Writers Museum\, 109 S Jefferson Ave.\, Eatonton\, GA\, 31024\, United States
CATEGORIES:Invited Talk
END:VEVENT
BEGIN:VEVENT
DTSTART;TZID=UTC:20230221T180000
DTEND;TZID=UTC:20230221T210000
DTSTAMP:20260424T000302
CREATED:20230113T222455Z
LAST-MODIFIED:20230113T222455Z
UID:1321-1677002400-1677013200@www.georgeweinstein.com
SUMMARY:Post-Valentine's Day Romance Talk with Kim Conrey
DESCRIPTION:Kim Conrey and I will be talking about romance in books and life at this A Novel Idea event.
URL:https://www.georgeweinstein.com/event/post-valentines-day-romance-talk-with-kim-conrey/
LOCATION:Vintage Pizza\, 5510 Chamblee Dunwoody Rd.\, Dunwoody\, GA\, 30338
CATEGORIES:Invited Talk
END:VEVENT
BEGIN:VEVENT
DTSTART;TZID=UTC:20230211T110000
DTEND;TZID=UTC:20230211T160000
DTSTAMP:20260424T000302
CREATED:20230113T221740Z
LAST-MODIFIED:20230113T221740Z
UID:1315-1676113200-1676131200@www.georgeweinstein.com
SUMMARY:Book Signing at Posman Books - Avalon
DESCRIPTION:I’ll be signing my books from 11 a.m. to 4 p.m. at Posman Books at the Avalon just in time for Valentine’s Day shopping.
URL:https://www.georgeweinstein.com/event/book-signing-at-posman-books-avalon-2/
LOCATION:Avalon Posman Books\, 4105 Avalon Blvd.\, Alpharetta\, GA\, 30009\, United States
CATEGORIES:Booksigning
END:VEVENT
BEGIN:VEVENT
DTSTART;TZID=UTC:20230113T190000
DTEND;TZID=UTC:20230113T210000
DTSTAMP:20260424T000302
CREATED:20230113T222012Z
LAST-MODIFIED:20230113T222012Z
UID:1319-1673636400-1673643600@www.georgeweinstein.com
SUMMARY:Book Club Talk
DESCRIPTION:I’ll be discussing Return to Hardscrabble Road in Cumming with a book club..
URL:https://www.georgeweinstein.com/event/book-club-talk-2-4/
LOCATION:GA
CATEGORIES:Book Club Talk
END:VEVENT
BEGIN:VEVENT
DTSTART;TZID=UTC:20221223T110000
DTEND;TZID=UTC:20221223T160000
DTSTAMP:20260424T000302
CREATED:20221026T055213Z
LAST-MODIFIED:20221026T055213Z
UID:1267-1671793200-1671811200@www.georgeweinstein.com
SUMMARY:Book Signing – Posman Ponce City Market
DESCRIPTION:I’ll be signing all my books at Posman Books – Ponce City Market.
URL:https://www.georgeweinstein.com/event/book-signing-posman-ponce-city-market-2/
LOCATION:Ponce City Market Posman Books\, 675 Ponce De Leon Ave NE\, C197\, Atlanta\, GA\, 30308
CATEGORIES:Booksigning
END:VEVENT
BEGIN:VEVENT
DTSTART;TZID=UTC:20221218T120000
DTEND;TZID=UTC:20221218T170000
DTSTAMP:20260424T000302
CREATED:20221001T014938Z
LAST-MODIFIED:20221001T015430Z
UID:1239-1671364800-1671382800@www.georgeweinstein.com
SUMMARY:Book Signing - Posman Avalon
DESCRIPTION:I’ll be signing all my books at Posman Books at The Avalon.
URL:https://www.georgeweinstein.com/event/book-signing-posman-avalon-2/
LOCATION:Avalon Posman Books\, 4105 Avalon Blvd.\, Alpharetta\, GA\, 30009\, United States
CATEGORIES:Booksigning
END:VEVENT
BEGIN:VEVENT
DTSTART;TZID=UTC:20221211T110000
DTEND;TZID=UTC:20221211T160000
DTSTAMP:20260424T000302
CREATED:20221026T055050Z
LAST-MODIFIED:20221026T055050Z
UID:1265-1670756400-1670774400@www.georgeweinstein.com
SUMMARY:Book Signing – Posman Ponce City Market
DESCRIPTION:I’ll be signing all my books at Posman Books – Ponce City Market.
URL:https://www.georgeweinstein.com/event/book-signing-posman-ponce-city-market/
LOCATION:Ponce City Market Posman Books\, 675 Ponce De Leon Ave NE\, C197\, Atlanta\, GA\, 30308
CATEGORIES:Booksigning
END:VEVENT
BEGIN:VEVENT
DTSTART;TZID=UTC:20221210T150000
DTEND;TZID=UTC:20221210T170000
DTSTAMP:20260424T000302
CREATED:20221001T015402Z
LAST-MODIFIED:20221001T015402Z
UID:1241-1670684400-1670691600@www.georgeweinstein.com
SUMMARY:Book Talk & Signing - FoxTale Book Shoppe
DESCRIPTION:My wife\, debut author Kim Conrey\, and I will be doing a talk about our writing journeys and signing our books at the beautiful FoxTale Book Shoppe.
URL:https://www.georgeweinstein.com/event/book-talk-signing-foxtale-book-shoppe/
LOCATION:FoxTale Book Shoppe\, 105 E Main St.\, Woodstock\, GA\, 30188\, United States
CATEGORIES:Booksigning
END:VEVENT
BEGIN:VEVENT
DTSTART;TZID=UTC:20221203T110000
DTEND;TZID=UTC:20221203T160000
DTSTAMP:20260424T000302
CREATED:20221001T014850Z
LAST-MODIFIED:20221001T014850Z
UID:1237-1670065200-1670083200@www.georgeweinstein.com
SUMMARY:Book Signing - Posman Avalon
DESCRIPTION:I’ll be signing all my books at Posman Books at The Avalon.
URL:https://www.georgeweinstein.com/event/book-signing-posman-avalon/
LOCATION:Avalon Posman Books\, 4105 Avalon Blvd.\, Alpharetta\, GA\, 30009\, United States
CATEGORIES:Booksigning
END:VEVENT
BEGIN:VEVENT
DTSTART;TZID=UTC:20221112T140000
DTEND;TZID=UTC:20221112T153000
DTSTAMP:20260424T000302
CREATED:20220901T004707Z
LAST-MODIFIED:20220901T004707Z
UID:1214-1668261600-1668267000@www.georgeweinstein.com
SUMMARY:Author Talk and Signing with Kim Conrey at Milton Library
DESCRIPTION:My wife and fellow author Kim Conrey and I will discuss our books and writing journeys and do a signing with Bookmiser’s Annell Gerson.
URL:https://www.georgeweinstein.com/event/author-talk-and-signing-with-kim-conrey-at-milton-library/
LOCATION:Milton Library\, 855 Mayfield Rd\, Milton\, GA\, 30009\, United States
CATEGORIES:Booksigning
END:VEVENT
BEGIN:VEVENT
DTSTART;TZID=UTC:20221016T150000
DTEND;TZID=UTC:20221016T180000
DTSTAMP:20260424T000302
CREATED:20220812T235529Z
LAST-MODIFIED:20220812T235529Z
UID:1194-1665932400-1665943200@www.georgeweinstein.com
SUMMARY:Joint Book Launch for Kim and George
DESCRIPTION:On October 16th from 3 p.m. to 6 p.m.\, please join my wife Kim Conrey and me at the Red Hare Brewing Company (1998 Delk Industrial Blvd SE\, Marietta\, GA 30067) to celebrate the launch of Kim’s sci-fi romance STEALING ARES and my RETURN TO HARDSCRABBLE ROAD. We’ll have light snacks to nosh\, books for sale\, and lots of choices of beverages.
URL:https://www.georgeweinstein.com/event/joint-book-launch-for-kim-and-george/
LOCATION:Red Hare Brewing Company\, 1998 Delk Industrial Blvd SE\, Marietta\, GA\, 30067\, United States
CATEGORIES:Book Launch
ATTACH;FMTTYPE=image/jpeg:https://www.georgeweinstein.com/wp-content/uploads/2022/08/Books-for-Launching.jpg
END:VEVENT
BEGIN:VEVENT
DTSTART;TZID=UTC:20220910T110000
DTEND;TZID=UTC:20220910T160000
DTSTAMP:20260424T000302
CREATED:20220822T002743Z
LAST-MODIFIED:20220822T002743Z
UID:1200-1662807600-1662825600@www.georgeweinstein.com
SUMMARY:Book Signing at Posman Books - Ponce City Market
DESCRIPTION:I’ll be signing and selling all my current titles. Hope to see you then!
URL:https://www.georgeweinstein.com/event/book-signing-at-posman-books-ponce-city-market-2/
LOCATION:Ponce City Market Posman Books\, 675 Ponce De Leon Ave NE\, C197\, Atlanta\, GA\, 30308
CATEGORIES:Booksigning
END:VEVENT
BEGIN:VEVENT
DTSTART;TZID=UTC:20220829T080000
DTEND;TZID=UTC:20220829T170000
DTSTAMP:20260424T000302
CREATED:20220830T000046Z
LAST-MODIFIED:20220830T000046Z
UID:1212-1661760000-1661792400@www.georgeweinstein.com
SUMMARY:Book Signing at Foxtale Book Shoppe
DESCRIPTION:My wife wife and fellow author Kim Conrey and I will be interviewing each our about our books and doing a signing.
URL:https://www.georgeweinstein.com/event/book-signing-at-foxtale-book-shoppe/
LOCATION:FoxTale Book Shoppe\, 105 E Main St.\, Woodstock\, GA\, 30188\, United States
CATEGORIES:Booksigning
END:VEVENT
BEGIN:VEVENT
DTSTART;TZID=UTC:20220828T110000
DTEND;TZID=UTC:20220828T160000
DTSTAMP:20260424T000302
CREATED:20220503T064534Z
LAST-MODIFIED:20220812T235816Z
UID:1147-1661684400-1661702400@www.georgeweinstein.com
SUMMARY:Book Signing at Posman Books - Avalon
DESCRIPTION:I’ll be signing and selling all my current titles. Hope to see you then!
URL:https://www.georgeweinstein.com/event/book-signing-at-posman-books-avalon/
LOCATION:Avalon Posman Books\, 4105 Avalon Blvd.\, Alpharetta\, GA\, 30009\, United States
CATEGORIES:Booksigning
ATTACH;FMTTYPE=image/jpeg:https://www.georgeweinstein.com/wp-content/uploads/2022/08/What-to-Do-before-Publishing-Part-2-1.jpg
END:VEVENT
BEGIN:VEVENT
DTSTART;TZID=UTC:20220818T190000
DTEND;TZID=UTC:20220818T210000
DTSTAMP:20260424T000302
CREATED:20220604T033540Z
LAST-MODIFIED:20220812T235949Z
UID:1163-1660849200-1660856400@www.georgeweinstein.com
SUMMARY:Books-n-Bites Book Signing at Atlanta National Golf Club
DESCRIPTION:This is a ticketed event\, featuring NYT bestselling author Karen White and eight other authors\, including myself. The $28 per-person price covers the cost of appetizers\, dessert\, and beverages. There will also be a cash bar. Use this link to purchase tickets: https://www.eventbrite.com/e/booksnbites-tickets-356761211387 \n 
URL:https://www.georgeweinstein.com/event/books-n-bites-book-signing-at-atlanta-national-golf-club/
LOCATION:Atlanta National Golf Club\, 350 Tournament Players Dr.\, Milton\, GA\, 30004\, United States
CATEGORIES:Booksigning
ATTACH;FMTTYPE=image/jpeg:https://www.georgeweinstein.com/wp-content/uploads/2022/06/Books-n-Bites.jpeg
END:VEVENT
BEGIN:VEVENT
DTSTART;TZID=UTC:20220625T130000
DTEND;TZID=UTC:20220625T150000
DTSTAMP:20260424T000302
CREATED:20220530T030615Z
LAST-MODIFIED:20220603T023639Z
UID:1155-1656162000-1656169200@www.georgeweinstein.com
SUMMARY:Book Signing at Posman Books at Ponce City Market
DESCRIPTION:Come see me at the beautiful Posman Books in the Ponce City Market complex!
URL:https://www.georgeweinstein.com/event/booksigning-at-posman-books-at-ponce-city-market/
LOCATION:Ponce City Market Posman Books\, 675 Ponce De Leon Ave NE\, C197\, Atlanta\, GA\, 30308
CATEGORIES:Book Club Talk
END:VEVENT
BEGIN:VEVENT
DTSTART;TZID=UTC:20220528T130000
DTEND;TZID=UTC:20220528T150000
DTSTAMP:20260424T000302
CREATED:20220503T064431Z
LAST-MODIFIED:20220503T064603Z
UID:1144-1653742800-1653750000@www.georgeweinstein.com
SUMMARY:Book Signing at Posman Books - Ponce City Market
DESCRIPTION:I’ll be signing and selling all my titles. Hope to see you then!
URL:https://www.georgeweinstein.com/event/book-signing-at-posman-books-ponce-city-market/
LOCATION:Ponce City Market Posman Books\, 675 Ponce De Leon Ave NE\, C197\, Atlanta\, GA\, 30308
CATEGORIES:Booksigning
END:VEVENT
BEGIN:VEVENT
DTSTART;TZID=UTC:20211222T110000
DTEND;TZID=UTC:20211222T160000
DTSTAMP:20260424T000302
CREATED:20211218T064226Z
LAST-MODIFIED:20211218T064226Z
UID:1120-1640170800-1640188800@www.georgeweinstein.com
SUMMARY:Posman Books - Avalon Book Signing
DESCRIPTION:I’ll be signing my five novels at the fabulous Posman Books – Avalon in Alpharetta for those eager to get a personalize\, signed gift for their friends and family–or themselves!
URL:https://www.georgeweinstein.com/event/posman-books-avalon-book-signing/
LOCATION:Avalon Posman Books\, 4105 Avalon Blvd.\, Alpharetta\, GA\, 30009\, United States
CATEGORIES:Booksigning
END:VEVENT
END:VCALENDAR