BEGIN:VCALENDAR
VERSION:2.0
PRODID:-//George Weinstein - ECPv6.15.20//NONSGML v1.0//EN
CALSCALE:GREGORIAN
METHOD:PUBLISH
X-WR-CALNAME:George Weinstein
X-ORIGINAL-URL:https://www.georgeweinstein.com
X-WR-CALDESC:Events for George Weinstein
REFRESH-INTERVAL;VALUE=DURATION:PT1H
X-Robots-Tag:noindex
X-PUBLISHED-TTL:PT1H
BEGIN:VTIMEZONE
TZID:America/Halifax
BEGIN:DAYLIGHT
TZOFFSETFROM:-0400
TZOFFSETTO:-0300
TZNAME:ADT
DTSTART:20220313T060000
END:DAYLIGHT
BEGIN:STANDARD
TZOFFSETFROM:-0300
TZOFFSETTO:-0400
TZNAME:AST
DTSTART:20221106T050000
END:STANDARD
BEGIN:DAYLIGHT
TZOFFSETFROM:-0400
TZOFFSETTO:-0300
TZNAME:ADT
DTSTART:20230312T060000
END:DAYLIGHT
BEGIN:STANDARD
TZOFFSETFROM:-0300
TZOFFSETTO:-0400
TZNAME:AST
DTSTART:20231105T050000
END:STANDARD
BEGIN:DAYLIGHT
TZOFFSETFROM:-0400
TZOFFSETTO:-0300
TZNAME:ADT
DTSTART:20240310T060000
END:DAYLIGHT
BEGIN:STANDARD
TZOFFSETFROM:-0300
TZOFFSETTO:-0400
TZNAME:AST
DTSTART:20241103T050000
END:STANDARD
BEGIN:DAYLIGHT
TZOFFSETFROM:-0400
TZOFFSETTO:-0300
TZNAME:ADT
DTSTART:20250309T060000
END:DAYLIGHT
BEGIN:STANDARD
TZOFFSETFROM:-0300
TZOFFSETTO:-0400
TZNAME:AST
DTSTART:20251102T050000
END:STANDARD
BEGIN:DAYLIGHT
TZOFFSETFROM:-0400
TZOFFSETTO:-0300
TZNAME:ADT
DTSTART:20260308T060000
END:DAYLIGHT
BEGIN:STANDARD
TZOFFSETFROM:-0300
TZOFFSETTO:-0400
TZNAME:AST
DTSTART:20261101T050000
END:STANDARD
END:VTIMEZONE
BEGIN:VTIMEZONE
TZID:UTC
BEGIN:STANDARD
TZOFFSETFROM:+0000
TZOFFSETTO:+0000
TZNAME:UTC
DTSTART:20220101T000000
END:STANDARD
END:VTIMEZONE
BEGIN:VEVENT
DTSTART;TZID=America/Halifax:20250318T153000
DTEND;TZID=America/Halifax:20250318T164500
DTSTAMP:20260423T184311
CREATED:20250307T182507Z
LAST-MODIFIED:20250307T182507Z
UID:1618-1742311800-1742316300@www.georgeweinstein.com
SUMMARY:Hardscrabble Road talk at St. George Village
DESCRIPTION:I’ll be speaking with the SGV residents about my writing journey and the creation of Hardscrabble Road.
URL:https://www.georgeweinstein.com/event/hardscrabble-road-talk-at-st-george-village/
LOCATION:St. George Village\, 11350 Woodstock Rd.\, auditorium\, Roswell\, GA\, 30075
CATEGORIES:Invited Talk
END:VEVENT
BEGIN:VEVENT
DTSTART;TZID=America/Halifax:20250301T090000
DTEND;TZID=America/Halifax:20250301T170000
DTSTAMP:20260423T184311
CREATED:20250208T154409Z
LAST-MODIFIED:20250208T154409Z
UID:1608-1740819600-1740848400@www.georgeweinstein.com
SUMMARY:Dahlonega Literary Festival
DESCRIPTION:11:00-11:50: “You’re Not a Murderer: You Have Harm OCD” – author Kim Conrey – Moderator: Jacob Appel. Rm. 105 \n2:00- 2:50: Panel: “The Jury’s Out – Do Lawyers Make Good Authors?” –  authors Jameson Gregg\, Wanda Morris\, McCracken Poston\, Jr.\, Moderator: George Weinstein. Sanctuary \nPlus plenty of other talks\, along with a luncheon and a keynote by the fabulous Rick Bragg!
URL:https://www.georgeweinstein.com/event/dahlonega-literary-festival-2/
LOCATION:Dahlonega Baptist Church\, 234 Hawkins Street\, Dahlonega\, GA
CATEGORIES:Invited Talk
END:VEVENT
BEGIN:VEVENT
DTSTART;TZID=America/Halifax:20250208T150000
DTEND;TZID=America/Halifax:20250208T170000
DTSTAMP:20260423T184311
CREATED:20240725T172633Z
LAST-MODIFIED:20240725T172633Z
UID:1588-1739026800-1739034000@www.georgeweinstein.com
SUMMARY:Book Signing at Birch Tree Bookstore
DESCRIPTION:Kim Conrey and I will be signing at Birch Tree Bookstore in Dallas\, GA.
URL:https://www.georgeweinstein.com/event/book-signing-at-birch-tree-bookstore/
LOCATION:Birch Tree Bookstore\, 8879 Dallas Acworth Hwy #135\, Dallas\, GA\, 30132\, United States
CATEGORIES:Booksigning
END:VEVENT
BEGIN:VEVENT
DTSTART;TZID=America/Halifax:20241021T180000
DTEND;TZID=America/Halifax:20241021T200000
DTSTAMP:20260423T184311
CREATED:20240709T010102Z
LAST-MODIFIED:20240709T010102Z
UID:1579-1729533600-1729540800@www.georgeweinstein.com
SUMMARY:Memoir Writing
DESCRIPTION:Kim Conrey and I will be discussing Memoir Writing\, a free talk at the Switzer Library.
URL:https://www.georgeweinstein.com/event/memoir-writing/
LOCATION:Switzer Library\, 266 Roswell St NE\, Marietta\, GA\, 30060\, United States
CATEGORIES:Invited Talk
END:VEVENT
BEGIN:VEVENT
DTSTART;TZID=America/Halifax:20240913T170000
DTEND;TZID=America/Halifax:20240913T190000
DTSTAMP:20260423T184311
CREATED:20240709T022149Z
LAST-MODIFIED:20240709T022149Z
UID:1581-1726246800-1726254000@www.georgeweinstein.com
SUMMARY:Stoney J's Winery Sip & Sign
DESCRIPTION:Seven other authors and I will be signing books for a great cause–Jesse’s House\, Inc.–at a cool location.
URL:https://www.georgeweinstein.com/event/stoney-js-winery-sip-sign/
LOCATION:Stoney J’s Winery\, 1506 Stoney Point Rd.\, Cumming\, GA\, 30041\, United States
CATEGORIES:Booksigning
END:VEVENT
BEGIN:VEVENT
DTSTART;TZID=America/Halifax:20240905T080000
DTEND;TZID=America/Halifax:20240908T170000
DTSTAMP:20260423T184311
CREATED:20240709T004554Z
LAST-MODIFIED:20240709T004554Z
UID:1570-1725523200-1725814800@www.georgeweinstein.com
SUMMARY:Yellow Daisy Festival
DESCRIPTION:Kim Conrey\, Ben Meeks\, and I will be selling and signing books at this 4-day event in Stone Mountain
URL:https://www.georgeweinstein.com/event/yellow-daisy-festival/
LOCATION:Stone Mountain Park\, 1000 Robert E. Lee Blvd.\, Stone Mountain\, GA\, 30083\, United States
CATEGORIES:Booksigning
END:VEVENT
BEGIN:VEVENT
DTSTART;TZID=America/Halifax:20240830T100000
DTEND;TZID=America/Halifax:20240902T180000
DTSTAMP:20260423T184311
CREATED:20240709T005438Z
LAST-MODIFIED:20240709T005438Z
UID:1573-1725012000-1725300000@www.georgeweinstein.com
SUMMARY:DragonCon
DESCRIPTION:Kim Conrey\, Ben Meeks\, and I will be selling and signing books at this once-a-year event over Labor Day weekend at the AmericasMart..
URL:https://www.georgeweinstein.com/event/dragoncon/
LOCATION:DragonCon\, 230 John Portman Blvd NW\, Atlanta\, GA\, 30303\, United States
CATEGORIES:Booksigning
END:VEVENT
BEGIN:VEVENT
DTSTART;TZID=America/Halifax:20240819T180000
DTEND;TZID=America/Halifax:20240819T200000
DTSTAMP:20260423T184311
CREATED:20240709T005923Z
LAST-MODIFIED:20240709T005923Z
UID:1576-1724090400-1724097600@www.georgeweinstein.com
SUMMARY:Paths to Publication Talk
DESCRIPTION:Kim Conrey and I will be discussing Paths to Publication\, a free talk at the Switzer Library.
URL:https://www.georgeweinstein.com/event/paths-to-publication-talk/
LOCATION:Switzer Library\, 266 Roswell St NE\, Marietta\, GA\, 30060\, United States
CATEGORIES:Invited Talk
END:VEVENT
BEGIN:VEVENT
DTSTART;TZID=America/Halifax:20240810T110000
DTEND;TZID=America/Halifax:20240810T140000
DTSTAMP:20260423T184311
CREATED:20240709T003618Z
LAST-MODIFIED:20240709T003618Z
UID:1568-1723287600-1723298400@www.georgeweinstein.com
SUMMARY:Poe & Co. Book Signing
DESCRIPTION:Kim Conrey and I will be signing books at Milton’s wonderful bookstore\, Poe & Company!
URL:https://www.georgeweinstein.com/event/poe-co-book-signing-2/
LOCATION:Poe and Company Bookstore\, 1890 Heritage Walk\, Suite P101\, Milton\, GA\, 30004
CATEGORIES:Booksigning
END:VEVENT
BEGIN:VEVENT
DTSTART;TZID=America/Halifax:20231223T103000
DTEND;TZID=America/Halifax:20231223T160000
DTSTAMP:20260423T184311
CREATED:20230824T194603Z
LAST-MODIFIED:20230824T194603Z
UID:1482-1703327400-1703347200@www.georgeweinstein.com
SUMMARY:Book Signing at Posman Books - The Avalon
DESCRIPTION:Kim and I will be meeting customers and signing books at Posman Books at The Avalon. Personalized\, autographed books make great gifts!
URL:https://www.georgeweinstein.com/event/book-signing-at-posman-books-the-avalon-2/
LOCATION:Avalon Posman Books\, 4105 Avalon Blvd.\, Alpharetta\, GA\, 30009\, United States
CATEGORIES:Booksigning
END:VEVENT
BEGIN:VEVENT
DTSTART;TZID=America/Halifax:20231202T103000
DTEND;TZID=America/Halifax:20231202T160000
DTSTAMP:20260423T184311
CREATED:20230824T194452Z
LAST-MODIFIED:20230824T194452Z
UID:1480-1701513000-1701532800@www.georgeweinstein.com
SUMMARY:Book Signing at Posman Books - The Avalon
DESCRIPTION:Kim and I will be meeting customers and signing books at Posman Books at The Avalon. Personalized\, autographed books make great gifts!
URL:https://www.georgeweinstein.com/event/book-signing-at-posman-books-the-avalon/
LOCATION:Avalon Posman Books\, 4105 Avalon Blvd.\, Alpharetta\, GA\, 30009\, United States
CATEGORIES:Booksigning
END:VEVENT
BEGIN:VEVENT
DTSTART;TZID=UTC:20231017T190000
DTEND;TZID=UTC:20231017T210000
DTSTAMP:20260423T184311
CREATED:20230518T015823Z
LAST-MODIFIED:20230518T015823Z
UID:1404-1697569200-1697576400@www.georgeweinstein.com
SUMMARY:Hardscrabble Road Book Club Talk in Flowery Branch
DESCRIPTION:Looking forward to telling the story behind the story of Hardscrabble Road to a book club in Flowery Branch!
URL:https://www.georgeweinstein.com/event/hardscrabble-road-book-club-talk-in-flowery-branch/
LOCATION:GA
CATEGORIES:Book Club Talk
END:VEVENT
BEGIN:VEVENT
DTSTART;VALUE=DATE:20231007
DTEND;VALUE=DATE:20231008
DTSTAMP:20260423T184311
CREATED:20230730T221347Z
LAST-MODIFIED:20230730T221347Z
UID:1471-1696636800-1696723199@www.georgeweinstein.com
SUMMARY:Next Chapter Con - Dalton\, GA
DESCRIPTION:Kim and I will be meeting readers and selling books at Next Chapter Con\, an annual Books and Authors Convention in Dalton\, GA\, with nearly 50 authors in attendance.
URL:https://www.georgeweinstein.com/event/next-chapter-con-dalton-ga/
LOCATION:Dalton Convention Center\, 2211 Tony Ingle Parkway\, Dalton\, GA\, 30720
CATEGORIES:Booksigning
END:VEVENT
BEGIN:VEVENT
DTSTART;TZID=America/Halifax:20231001T120000
DTEND;TZID=America/Halifax:20231001T170000
DTSTAMP:20260423T184312
CREATED:20230912T192455Z
LAST-MODIFIED:20230912T192455Z
UID:1500-1696161600-1696179600@www.georgeweinstein.com
SUMMARY:Johns Creek Literary Fair
DESCRIPTION:Kim Conrey and I\, along with 38 other authors\, will be participating in the Johns Creek Literary Fair on Sunday\, October 1\, 2023 from noon to 5 p.m. In addition to doing “speed dating” pitches about our books\, we’ll be selling them throughout the afternoon\, and I’ll be performing Master of Ceremony duties for the festival events. \nThe event is free and open to the public. Book clubs and individual readers are most welcome to attend!
URL:https://www.georgeweinstein.com/event/johns-creek-literary-fair/
LOCATION:Mark Burkhalter Amphitheater at Newtown Park\, 3150 Old Alabama Rd.\, Johns Creek\, GA\, 30022
CATEGORIES:Booksigning
END:VEVENT
BEGIN:VEVENT
DTSTART;TZID=America/Halifax:20230923T113000
DTEND;TZID=America/Halifax:20230923T160000
DTSTAMP:20260423T184312
CREATED:20230730T222402Z
LAST-MODIFIED:20230730T222402Z
UID:1476-1695468600-1695484800@www.georgeweinstein.com
SUMMARY:Book Talks & Signing at The Reading Attic
DESCRIPTION:Kim and I will be doing talks for readers and writers and signing books at The Reading Attic\, a new bookstore on the Marietta Square.
URL:https://www.georgeweinstein.com/event/book-talks-signing-at-the-reading-attic/
LOCATION:The Reading Attic\, 210 W Park Square 2nd FL\, Marietta\, GA\, 30060
CATEGORIES:Booksigning,Invited Talk
END:VEVENT
BEGIN:VEVENT
DTSTART;TZID=UTC:20230919T173000
DTEND;TZID=UTC:20230919T190000
DTSTAMP:20260423T184312
CREATED:20230609T070334Z
LAST-MODIFIED:20230609T070334Z
UID:1406-1695144600-1695150000@www.georgeweinstein.com
SUMMARY:Writers Panel at East Cobb Library
DESCRIPTION:Join me\, Kim Conrey\, Kathy Nichols\, and Mike Shaw for a panel discussion about the craft and business of writing.
URL:https://www.georgeweinstein.com/event/writers-panel-at-east-cobb-library/
LOCATION:East Cobb Library\, 4880 Lower Roswell Rd suite 510-B\, Marietta\, GA\, 30068
CATEGORIES:Invited Talk
END:VEVENT
BEGIN:VEVENT
DTSTART;TZID=UTC:20230912T193000
DTEND;TZID=UTC:20230912T213000
DTSTAMP:20260423T184312
CREATED:20230113T221913Z
LAST-MODIFIED:20230113T221913Z
UID:1317-1694547000-1694554200@www.georgeweinstein.com
SUMMARY:Book Club Talk
DESCRIPTION:I’ll be discussing Hardscrabble Road in Woodstock with a book club..
URL:https://www.georgeweinstein.com/event/book-club-talk-2-3/
LOCATION:GA
CATEGORIES:Book Club Talk
END:VEVENT
BEGIN:VEVENT
DTSTART;TZID=America/Halifax:20230910T150000
DTEND;TZID=America/Halifax:20230910T170000
DTSTAMP:20260423T184312
CREATED:20230718T192757Z
LAST-MODIFIED:20230718T192757Z
UID:1459-1694358000-1694365200@www.georgeweinstein.com
SUMMARY:Addressing the Rockdale-Newton County Genealogical Society
DESCRIPTION:I’ll be speaking to the Rockdale-Newton County Genealogical Society about “Telling the Hard Stories from Your Genealogical Files.
URL:https://www.georgeweinstein.com/event/addressing-the-rockdale-newton-county-genealogical-society/
LOCATION:LDS Church – Conyers\, 1275 Flat Shoals Rd. SE\, Conyers\, GA
CATEGORIES:Invited Talk
END:VEVENT
BEGIN:VEVENT
DTSTART;TZID=America/Halifax:20230826T103000
DTEND;TZID=America/Halifax:20230826T160000
DTSTAMP:20260423T184312
CREATED:20230724T210550Z
LAST-MODIFIED:20230724T210550Z
UID:1462-1693045800-1693065600@www.georgeweinstein.com
SUMMARY:Book Signing at Posman-Avalon
DESCRIPTION:Kim and I will be signing all our titles\, including the new ones\, at Posman Books at The Avalon.
URL:https://www.georgeweinstein.com/event/book-signing-at-posman-avalon/
LOCATION:Avalon Posman Books\, 4105 Avalon Blvd.\, Alpharetta\, GA\, 30009\, United States
CATEGORIES:Booksigning
END:VEVENT
BEGIN:VEVENT
DTSTART;TZID=UTC:20230820T140000
DTEND;TZID=UTC:20230820T160000
DTSTAMP:20260423T184312
CREATED:20230610T011544Z
LAST-MODIFIED:20230610T011544Z
UID:1409-1692540000-1692547200@www.georgeweinstein.com
SUMMARY:Keynote Talk at Community Author Showcase at Sharon Forks Library in Cumming
DESCRIPTION:Forsyth County Public Library\, Sharon Forks Library Branch\, is having a Community Author Showcase\, and I am the keynote speaker for a talk about the importance of finding a writing group to support and critique writers as they develop in their craft.\n\nAfter my talk\, community authors will be set up around the large meeting space to meet patrons and sign and sell their books.
URL:https://www.georgeweinstein.com/event/keynote-talk-at-community-author-showcase-at-sharon-forks-library-in-cumming/
LOCATION:Sharon Forks Library\, 2820 Old Atlanta Road\, Cumming\, GA\, 30041
CATEGORIES:Invited Talk
END:VEVENT
BEGIN:VEVENT
DTSTART;TZID=America/Halifax:20230815T183000
DTEND;TZID=America/Halifax:20230815T213000
DTSTAMP:20260423T184312
CREATED:20230624T223510Z
LAST-MODIFIED:20230624T223510Z
UID:1439-1692124200-1692135000@www.georgeweinstein.com
SUMMARY:Panel Discussion on the Epidemic of Book Banning
DESCRIPTION:I’ll participate on a panel about the epidemic of book banning in America\, sponsored by the National Council of Jewish Women.
URL:https://www.georgeweinstein.com/event/panel-discussion-on-the-epidemic-of-book-banning/
LOCATION:The Temple on Peachtree St.\, 1589 Peachtree Street\, Atlanta\, GA\, 30309
CATEGORIES:Invited Talk
END:VEVENT
BEGIN:VEVENT
DTSTART;TZID=America/Halifax:20230730T140000
DTEND;TZID=America/Halifax:20230730T160000
DTSTAMP:20260423T184312
CREATED:20230702T173146Z
LAST-MODIFIED:20230702T173254Z
UID:1448-1690725600-1690732800@www.georgeweinstein.com
SUMMARY:Book Talk & Signing at Book Exchange for Me & Kim Conrey
DESCRIPTION:Kim will be discussing and signing Nicholas Eternal and I will be talking about and signing Offlining.
URL:https://www.georgeweinstein.com/event/book-talk-signing-at-book-exchange-for-me-kim-conrey/
LOCATION:Book Exchange-Marietta\, 2932 Canton Rd # 220\, Marietta\, GA\, 30066\, United States
CATEGORIES:Booksigning
END:VEVENT
BEGIN:VEVENT
DTSTART;TZID=America/Halifax:20230725T190000
DTEND;TZID=America/Halifax:20230725T210000
DTSTAMP:20260423T184312
CREATED:20230702T172938Z
LAST-MODIFIED:20230702T172938Z
UID:1445-1690311600-1690318800@www.georgeweinstein.com
SUMMARY:Book Launch Party for Me (OFFLINING) and Kim Conrey (NICHOLAS ETERNAL)
DESCRIPTION:In this even hosted by A Novel Idea\, Kim will be launching her urban fantasy/paranormal romance Nicholas Eternal\, and I will be launching my satirical sci-fi comedy Offlining with each of us giving a talk about our new book\, followed by a book signing\, with Bookmiser handling the sales.
URL:https://www.georgeweinstein.com/event/book-launch-party-for-me-offlining-and-kim-conrey-nicholas-eternal/
LOCATION:Brimstone Restaurant and Tavern\, 10595 Old Alabama Rd Conn.\, Alpharetta\, GA\, 30022
CATEGORIES:Book Launch
END:VEVENT
BEGIN:VEVENT
DTSTART;TZID=UTC:20230724T100000
DTEND;TZID=UTC:20230724T110000
DTSTAMP:20260423T184312
CREATED:20230511T175040Z
LAST-MODIFIED:20230511T175312Z
UID:1390-1690192800-1690196400@www.georgeweinstein.com
SUMMARY:Perimeter Adult Learning Services (PALS) Author Talk in Dunwoody
DESCRIPTION:Kim and I will be doing an hour-long local author talk for Perimeter Adult Learning Services (PALS) participants.
URL:https://www.georgeweinstein.com/event/perimeter-adult-learning-services-pals-author-talk-in-dunwoody/
LOCATION:Dunwoody Baptist Church\, 1445 Mt. Vernon Rd.\, Dunwoody\, GA\, 30338
CATEGORIES:Invited Talk
END:VEVENT
BEGIN:VEVENT
DTSTART;TZID=UTC:20230722T110000
DTEND;TZID=UTC:20230722T130000
DTSTAMP:20260423T184312
CREATED:20230418T190427Z
LAST-MODIFIED:20230418T190427Z
UID:1386-1690023600-1690030800@www.georgeweinstein.com
SUMMARY:Poe and Company Book Signing
DESCRIPTION:Kim Conrey and I will be meeting readers and signing books at Poe and Company in Milton\, GA.
URL:https://www.georgeweinstein.com/event/poe-and-company-book-signing/
LOCATION:Poe and Company Bookstore\, 1890 Heritage Walk\, Suite P101\, Milton\, GA\, 30004
CATEGORIES:Booksigning
END:VEVENT
BEGIN:VEVENT
DTSTART;TZID=America/Halifax:20230621T080000
DTEND;TZID=America/Halifax:20230621T170000
DTSTAMP:20260423T184312
CREATED:20230621T141922Z
LAST-MODIFIED:20230621T141922Z
UID:1436-1687334400-1687366800@www.georgeweinstein.com
SUMMARY:Talk at the Midtown Atlanta Rotary Club
DESCRIPTION:I’ll be discussing the importance of telling our stories and how I’ve helped others do this through my personal service and through the Atlanta Writers Club
URL:https://www.georgeweinstein.com/event/talk-at-the-midtown-atlanta-rotary-club/
LOCATION:Ansley Golf Club\, 196 Montgomery Ferry Dr NE\, Atlanta\, GA\, 30309
CATEGORIES:Invited Talk
END:VEVENT
BEGIN:VEVENT
DTSTART;TZID=UTC:20230603T103000
DTEND;TZID=UTC:20230603T150000
DTSTAMP:20260423T184312
CREATED:20230511T175156Z
LAST-MODIFIED:20230511T175156Z
UID:1393-1685788200-1685804400@www.georgeweinstein.com
SUMMARY:Posman Books Signing
DESCRIPTION:Kim and I will be meeting readers and signing books at the fabulous Posman Books at The Avalon.
URL:https://www.georgeweinstein.com/event/posman-books-signing/
LOCATION:Avalon Posman Books\, 4105 Avalon Blvd.\, Alpharetta\, GA\, 30009\, United States
CATEGORIES:Booksigning
END:VEVENT
BEGIN:VEVENT
DTSTART;TZID=UTC:20230527T100000
DTEND;TZID=UTC:20230528T170000
DTSTAMP:20260423T184312
CREATED:20230406T052643Z
LAST-MODIFIED:20230406T053042Z
UID:1372-1685181600-1685293200@www.georgeweinstein.com
SUMMARY:Alpharetta Arts Streetfest
DESCRIPTION:Kim\, Ben Meeks\, and I will be signing for two days on Memorial Day weekend at The Grove at Wills Park located behind the Alpharetta Community Center\, 175 Roswell St.
URL:https://www.georgeweinstein.com/event/alpharetta-arts-streetfest/
LOCATION:GA
CATEGORIES:Booksigning
END:VEVENT
BEGIN:VEVENT
DTSTART;TZID=UTC:20230509T190000
DTEND;TZID=UTC:20230509T210000
DTSTAMP:20260423T184312
CREATED:20230320T233341Z
LAST-MODIFIED:20230324T180943Z
UID:1349-1683658800-1683666000@www.georgeweinstein.com
SUMMARY:Book Club Talk
DESCRIPTION:I’ll be discussing Return to Hardscrabble Road in Dunwoody with a book club.
URL:https://www.georgeweinstein.com/event/book-club-talk-2-5/
LOCATION:GA
CATEGORIES:Book Club Talk
END:VEVENT
BEGIN:VEVENT
DTSTART;TZID=UTC:20230427T190000
DTEND;TZID=UTC:20230427T210000
DTSTAMP:20260423T184312
CREATED:20230325T011429Z
LAST-MODIFIED:20230325T011429Z
UID:1351-1682622000-1682629200@www.georgeweinstein.com
SUMMARY:Book Club Talk
DESCRIPTION:I’ll be discussing Hardscrabble Road with a book club in Atlanta.
URL:https://www.georgeweinstein.com/event/book-club-talk-2-6/
LOCATION:GA
END:VEVENT
END:VCALENDAR