BEGIN:VCALENDAR
VERSION:2.0
PRODID:-//George Weinstein - ECPv6.15.20//NONSGML v1.0//EN
CALSCALE:GREGORIAN
METHOD:PUBLISH
X-WR-CALNAME:George Weinstein
X-ORIGINAL-URL:https://www.georgeweinstein.com
X-WR-CALDESC:Events for George Weinstein
REFRESH-INTERVAL;VALUE=DURATION:PT1H
X-Robots-Tag:noindex
X-PUBLISHED-TTL:PT1H
BEGIN:VTIMEZONE
TZID:UTC
BEGIN:STANDARD
TZOFFSETFROM:+0000
TZOFFSETTO:+0000
TZNAME:UTC
DTSTART:20150101T000000
END:STANDARD
END:VTIMEZONE
BEGIN:VTIMEZONE
TZID:America/New_York
BEGIN:DAYLIGHT
TZOFFSETFROM:-0500
TZOFFSETTO:-0400
TZNAME:EDT
DTSTART:20150308T070000
END:DAYLIGHT
BEGIN:STANDARD
TZOFFSETFROM:-0400
TZOFFSETTO:-0500
TZNAME:EST
DTSTART:20151101T060000
END:STANDARD
BEGIN:DAYLIGHT
TZOFFSETFROM:-0500
TZOFFSETTO:-0400
TZNAME:EDT
DTSTART:20160313T070000
END:DAYLIGHT
BEGIN:STANDARD
TZOFFSETFROM:-0400
TZOFFSETTO:-0500
TZNAME:EST
DTSTART:20161106T060000
END:STANDARD
BEGIN:DAYLIGHT
TZOFFSETFROM:-0500
TZOFFSETTO:-0400
TZNAME:EDT
DTSTART:20170312T070000
END:DAYLIGHT
BEGIN:STANDARD
TZOFFSETFROM:-0400
TZOFFSETTO:-0500
TZNAME:EST
DTSTART:20171105T060000
END:STANDARD
END:VTIMEZONE
BEGIN:VEVENT
DTSTART;TZID=UTC:20170118T190000
DTEND;TZID=UTC:20170118T210000
DTSTAMP:20260424T092313
CREATED:20170116T174847Z
LAST-MODIFIED:20170116T174847Z
UID:598-1484766000-1484773200@www.georgeweinstein.com
SUMMARY:Canton Novel Idea Talk
DESCRIPTION:I’ll be reading from Hardscrabble Road and talking about writing a young adult novel for the Novel Idea monthly program.
URL:https://www.georgeweinstein.com/event/canton-novel-idea-talk/
LOCATION:The Snug\, 190 E. Main St.\, Canton\, GA\, 30114\, United States
CATEGORIES:Invited Talk
END:VEVENT
BEGIN:VEVENT
DTSTART;TZID=UTC:20170104T190000
DTEND;TZID=UTC:20170104T210000
DTSTAMP:20260424T092313
CREATED:20161127T193545Z
LAST-MODIFIED:20161127T193545Z
UID:571-1483556400-1483563600@www.georgeweinstein.com
SUMMARY:Book Club Talk - Bookmiser/Roswell
DESCRIPTION:I’ll be discussing Hardscrabble Road at 7 p.m. to the Bookmiser Book Club.
URL:https://www.georgeweinstein.com/event/book-club-talk-bookmiserroswell/
LOCATION:Bookmiser – Roswell\, 4651 Sandy Plains Rd.\, Roswell\, GA\, 30075\, United States
CATEGORIES:Book Club Talk
END:VEVENT
BEGIN:VEVENT
DTSTART;TZID=UTC:20161223T110000
DTEND;TZID=UTC:20161223T150000
DTSTAMP:20260424T092313
CREATED:20161013T202548Z
LAST-MODIFIED:20161013T202548Z
UID:549-1482490800-1482505200@www.georgeweinstein.com
SUMMARY:Booksigning at The Chandlery 12/23
DESCRIPTION:I’ll be signing all four of my novels from Deeds Publishing\, including my latest\, the Southern mystery Aftermath.
URL:https://www.georgeweinstein.com/event/booksigning-at-the-chandlery-12-23/
LOCATION:The Chandlery\, 950 Canton St.\, Roswell\, GA\, 30075\, United States
CATEGORIES:Booksigning
END:VEVENT
BEGIN:VEVENT
DTSTART;TZID=UTC:20161222T110000
DTEND;TZID=UTC:20161222T150000
DTSTAMP:20260424T092313
CREATED:20161013T202236Z
LAST-MODIFIED:20161013T202236Z
UID:547-1482404400-1482418800@www.georgeweinstein.com
SUMMARY:Booksigning at The Chandlery 12/22
DESCRIPTION:I’ll be signing all four of my novels from Deeds Publishing\, including my latest\, the Southern mystery Aftermath.
URL:https://www.georgeweinstein.com/event/booksigning-chandlery-12-22/
LOCATION:The Chandlery\, 950 Canton St.\, Roswell\, GA\, 30075\, United States
CATEGORIES:Booksigning
END:VEVENT
BEGIN:VEVENT
DTSTART;TZID=UTC:20161221T110000
DTEND;TZID=UTC:20161221T150000
DTSTAMP:20260424T092313
CREATED:20161013T202013Z
LAST-MODIFIED:20161013T202013Z
UID:545-1482318000-1482332400@www.georgeweinstein.com
SUMMARY:Booksigning at The Chandlery 12/21
DESCRIPTION:I’ll be signing all four of my novels from Deeds Publishing\, including my latest\, the Southern mystery Aftermath.
URL:https://www.georgeweinstein.com/event/booksigning-chandlery-12-21/
LOCATION:GA
CATEGORIES:Booksigning
END:VEVENT
BEGIN:VEVENT
DTSTART;TZID=UTC:20161218T120000
DTEND;TZID=UTC:20161218T160000
DTSTAMP:20260424T092313
CREATED:20161013T201443Z
LAST-MODIFIED:20161013T201507Z
UID:543-1482062400-1482076800@www.georgeweinstein.com
SUMMARY:Booksigning at The Chandlery 12/18
DESCRIPTION:I’ll be signing all four of my novels from Deeds Publishing\, including my latest\, the Southern mystery Aftermath.
URL:https://www.georgeweinstein.com/event/booksigning-chandlery-12-18/
LOCATION:The Chandlery\, 950 Canton St.\, Roswell\, GA\, 30075\, United States
CATEGORIES:Booksigning
END:VEVENT
BEGIN:VEVENT
DTSTART;TZID=UTC:20161210T110000
DTEND;TZID=UTC:20161210T150000
DTSTAMP:20260424T092313
CREATED:20161013T201315Z
LAST-MODIFIED:20161013T201315Z
UID:541-1481367600-1481382000@www.georgeweinstein.com
SUMMARY:Booksigning at The Chandlery 12/10
DESCRIPTION:I’ll be signing all four of my novels from Deeds Publishing\, including my latest\, the Southern mystery Aftermath.
URL:https://www.georgeweinstein.com/event/booksigning-chandlery-12-10/
LOCATION:The Chandlery\, 950 Canton St.\, Roswell\, GA\, 30075\, United States
CATEGORIES:Booksigning
END:VEVENT
BEGIN:VEVENT
DTSTART;TZID=UTC:20161203T140000
DTEND;TZID=UTC:20161203T160000
DTSTAMP:20260424T092313
CREATED:20161013T195748Z
LAST-MODIFIED:20161013T195953Z
UID:537-1480773600-1480780800@www.georgeweinstein.com
SUMMARY:Booksigning at FoxTale Book Shoppe 12/3
DESCRIPTION:I’ll be signing all four of my novels from Deeds Publishing\, including my latest\, the Southern mystery Aftermath.
URL:https://www.georgeweinstein.com/event/booksigning-foxtale-book-shoppe-12-3/
LOCATION:FoxTale Book Shoppe\, 105 E Main St.\, Woodstock\, GA\, 30188\, United States
CATEGORIES:Booksigning
END:VEVENT
BEGIN:VEVENT
DTSTART;TZID=UTC:20161203T103000
DTEND;TZID=UTC:20161203T133000
DTSTAMP:20260424T092313
CREATED:20161013T195321Z
LAST-MODIFIED:20161013T200031Z
UID:535-1480761000-1480771800@www.georgeweinstein.com
SUMMARY:Booksigning at The Chandlery 12/3
DESCRIPTION:I’ll be signing all four of my novels from Deeds Publishing\, including my latest\, the Southern mystery Aftermath.
URL:https://www.georgeweinstein.com/event/booksigning-chandlery-12-3/
LOCATION:The Chandlery\, 950 Canton St.\, Roswell\, GA\, 30075\, United States
CATEGORIES:Booksigning
END:VEVENT
BEGIN:VEVENT
DTSTART;TZID=UTC:20161126T150000
DTEND;TZID=UTC:20161126T163000
DTSTAMP:20260424T092313
CREATED:20161031T233548Z
LAST-MODIFIED:20161031T233548Z
UID:557-1480172400-1480177800@www.georgeweinstein.com
SUMMARY:Booksigning at Bookmiser on 11/26
DESCRIPTION:I’ll be signing my novels\, including my latest\, the Southern mystery Aftermath.
URL:https://www.georgeweinstein.com/event/booksigning-bookmiser-1126/
LOCATION:Bookmiser – Roswell\, 4651 Sandy Plains Rd.\, Roswell\, GA\, 30075\, United States
CATEGORIES:Booksigning
END:VEVENT
BEGIN:VEVENT
DTSTART;TZID=UTC:20161126T110000
DTEND;TZID=UTC:20161126T150000
DTSTAMP:20260424T092313
CREATED:20161013T195051Z
LAST-MODIFIED:20161013T200104Z
UID:533-1480158000-1480172400@www.georgeweinstein.com
SUMMARY:Booksigning at The Chandlery 11/26
DESCRIPTION:I’ll be signing all four of my novels from Deeds Publishing\, including my latest\, the Southern mystery Aftermath.
URL:https://www.georgeweinstein.com/event/booksigning-chandlery-11-26/
LOCATION:The Chandlery\, 950 Canton St.\, Roswell\, GA\, 30075\, United States
CATEGORIES:Booksigning
END:VEVENT
BEGIN:VEVENT
DTSTART;TZID=America/New_York:20161125T110000
DTEND;TZID=America/New_York:20161125T150000
DTSTAMP:20260424T092313
CREATED:20161013T194730Z
LAST-MODIFIED:20161013T200218Z
UID:529-1480071600-1480086000@www.georgeweinstein.com
SUMMARY:Booksigning at The Chandlery 11/25
DESCRIPTION:I’ll be signing all four of my novels from Deeds Publishing\, including my latest\, the Southern mystery Aftermath.
URL:https://www.georgeweinstein.com/event/booksigning-at-the-chandlery-11-25/
LOCATION:The Chandlery\, 950 Canton St.\, Roswell\, GA\, 30075\, United States
CATEGORIES:Booksigning
END:VEVENT
BEGIN:VEVENT
DTSTART;TZID=UTC:20161119T130000
DTEND;TZID=UTC:20161119T170000
DTSTAMP:20260424T092313
CREATED:20161027T023107Z
LAST-MODIFIED:20161027T023107Z
UID:553-1479560400-1479574800@www.georgeweinstein.com
SUMMARY:Booksigning at Acworth Bookstore 11/19
DESCRIPTION:I’ll be signing all four of my novels from Deeds Publishing\, including my latest\, the Southern mystery Aftermath.
URL:https://www.georgeweinstein.com/event/booksigning-acworth-bookstore-1119/
LOCATION:Acworth Bookstore & Coffee Shop\, 4857 N Main St.\, Acworth\, GA\, 30101\, United States
CATEGORIES:Booksigning
END:VEVENT
BEGIN:VEVENT
DTSTART;TZID=UTC:20161117T100000
DTEND;TZID=UTC:20161117T110000
DTSTAMP:20260424T092313
CREATED:20161103T213454Z
LAST-MODIFIED:20161103T213529Z
UID:560-1479376800-1479380400@www.georgeweinstein.com
SUMMARY:Hardscrabble Road Book Club Talk
DESCRIPTION:Speaking to the Questers about Southern historical novel Hardscrabble Road.
URL:https://www.georgeweinstein.com/event/hardscrabble-road-book-club-talk/
LOCATION:Atlanta
CATEGORIES:Book Club Talk
END:VEVENT
BEGIN:VEVENT
DTSTART;TZID=UTC:20161023T120000
DTEND;TZID=UTC:20161023T150000
DTSTAMP:20260424T092313
CREATED:20160920T170228Z
LAST-MODIFIED:20161013T200609Z
UID:457-1477224000-1477234800@www.georgeweinstein.com
SUMMARY:AFTERMATH Book Launch Event #2
DESCRIPTION:You are invited to attend my book signing for Aftermath on Sunday\, October 23\, from noon to 3 p.m.\, with a 10% discount on food and beverages for those purchasing any of my books\, at The Nest Café at 58 Canton St.\, Alpharetta\, GA 30009 (ample parking alongside and behind the building). \nAnyone purchasing Aftermath at this event will receive the bonus prologue “Before Aftermath\,” and anyone posting a review of this mystery novel on Amazon or Goodreads will receive the bonus epilogue “After Aftermath.” \nIf you plan to attend\, RSVP via the Contact page on this website or at AftermathNovel@gmail.com.
URL:https://www.georgeweinstein.com/event/aftermath-book-launch-event-2/
LOCATION:The  Nest Cafe\, 58 Canton St.\, Alpharetta\, GA\, 30009\, United States
CATEGORIES:Book Launch
END:VEVENT
BEGIN:VEVENT
DTSTART;TZID=America/New_York:20161022T130000
DTEND;TZID=America/New_York:20161022T160000
DTSTAMP:20260424T092313
CREATED:20160920T165540Z
LAST-MODIFIED:20160920T165739Z
UID:450-1477141200-1477152000@www.georgeweinstein.com
SUMMARY:AFTERMATH Book Launch Event #1
DESCRIPTION:You are invited to attend my book talk and signing for Aftermath on Saturday\, October 22\, either from 1 p.m. to 2:30 p.m. or from 2:30 p.m. to 4 p.m.\, with a free taco bar courtesy of me and Deeds Publishing\, at Tin Lizzy’s Cantina at 121 Perimeter Center West\, Dunwoody\, GA 30346 (plenty of parking in front and in the adjacent SunTrust lot). \nAnyone purchasing Aftermath at this event will receive the bonus prologue “Before Aftermath\,” and anyone posting a review of this mystery novel on Amazon or Goodreads will receive the bonus epilogue “After Aftermath.” \nIf you plan to attend\, RSVP via the Contact page on this website or at AftermathNovel@gmail.com.
URL:https://www.georgeweinstein.com/event/aftermath-book-launch-event-1/
LOCATION:Tin Lizzy’s Cantina\, 121 Perimeter Center West\, Dunwoody\, GA\, 30346\, United States
CATEGORIES:Book Launch
END:VEVENT
BEGIN:VEVENT
DTSTART;VALUE=DATE:20161018
DTEND;VALUE=DATE:20161019
DTSTAMP:20260424T092313
CREATED:20160908T025059Z
LAST-MODIFIED:20160908T025100Z
UID:274-1476748800-1476835199@www.georgeweinstein.com
SUMMARY:Osher Lifelong Learning Institute
DESCRIPTION:
URL:https://www.georgeweinstein.com/event/osher-lifelong-learning-institute/
LOCATION:Emory University\, Atlanta\, Georgia
END:VEVENT
BEGIN:VEVENT
DTSTART;VALUE=DATE:20160926
DTEND;VALUE=DATE:20160927
DTSTAMP:20260424T092313
CREATED:20160908T024947Z
LAST-MODIFIED:20160908T024947Z
UID:273-1474848000-1474934399@www.georgeweinstein.com
SUMMARY:Book Club Talk
DESCRIPTION:
URL:https://www.georgeweinstein.com/event/book-club-talk/
LOCATION:Roswell\, Georgia
END:VEVENT
BEGIN:VEVENT
DTSTART;VALUE=DATE:20160924
DTEND;VALUE=DATE:20160925
DTSTAMP:20260424T092313
CREATED:20160908T024956Z
LAST-MODIFIED:20160908T024956Z
UID:272-1474675200-1474761599@www.georgeweinstein.com
SUMMARY:Broadleaf Writers Conference
DESCRIPTION:  \n 
URL:https://www.georgeweinstein.com/event/broadleaf-writers-conference/
LOCATION:Decatur\, Georgia 
END:VEVENT
BEGIN:VEVENT
DTSTART;VALUE=DATE:20160909
DTEND;VALUE=DATE:20160912
DTSTAMP:20260424T092313
CREATED:20160908T023629Z
LAST-MODIFIED:20160908T023724Z
UID:257-1473379200-1473638399@www.georgeweinstein.com
SUMMARY:The Writer's High Retreat
DESCRIPTION:
URL:https://www.georgeweinstein.com/event/writers-high-retreat/
LOCATION: Young Harris\, GA\, United States
END:VEVENT
END:VCALENDAR