BEGIN:VCALENDAR
VERSION:2.0
PRODID:-//George Weinstein - ECPv6.15.20//NONSGML v1.0//EN
CALSCALE:GREGORIAN
METHOD:PUBLISH
X-ORIGINAL-URL:https://www.georgeweinstein.com
X-WR-CALDESC:Events for George Weinstein
REFRESH-INTERVAL;VALUE=DURATION:PT1H
X-Robots-Tag:noindex
X-PUBLISHED-TTL:PT1H
BEGIN:VTIMEZONE
TZID:America/Halifax
BEGIN:DAYLIGHT
TZOFFSETFROM:-0400
TZOFFSETTO:-0300
TZNAME:ADT
DTSTART:20250309T060000
END:DAYLIGHT
BEGIN:STANDARD
TZOFFSETFROM:-0300
TZOFFSETTO:-0400
TZNAME:AST
DTSTART:20251102T050000
END:STANDARD
BEGIN:DAYLIGHT
TZOFFSETFROM:-0400
TZOFFSETTO:-0300
TZNAME:ADT
DTSTART:20260308T060000
END:DAYLIGHT
BEGIN:STANDARD
TZOFFSETFROM:-0300
TZOFFSETTO:-0400
TZNAME:AST
DTSTART:20261101T050000
END:STANDARD
BEGIN:DAYLIGHT
TZOFFSETFROM:-0400
TZOFFSETTO:-0300
TZNAME:ADT
DTSTART:20270314T060000
END:DAYLIGHT
BEGIN:STANDARD
TZOFFSETFROM:-0300
TZOFFSETTO:-0400
TZNAME:AST
DTSTART:20271107T050000
END:STANDARD
END:VTIMEZONE
BEGIN:VEVENT
DTSTART;TZID=America/Halifax:20260404T120000
DTEND;TZID=America/Halifax:20260404T160000
DTSTAMP:20260425T082138
CREATED:20260204T180516Z
LAST-MODIFIED:20260204T180535Z
UID:1665-1775304000-1775318400@www.georgeweinstein.com
SUMMARY:Book Signing at Barnes & Noble in Marietta (East Cobb)
DESCRIPTION:Together with my wife\, author Kim Conrey\, we will be signing books at Barnes & Noble in Kennesaw.
URL:https://www.georgeweinstein.com/event/book-signing-at-barnes-noble-in-kennesaw/
LOCATION:Barnes & Noble – Marietta\, 50 Barrett Pkwy Suite 3000 Bldg. 3\, Marietta\, GA\, 30066
CATEGORIES:Booksigning
END:VEVENT
END:VCALENDAR