BEGIN:VCALENDAR
VERSION:2.0
PRODID:-//George Weinstein - ECPv6.15.20//NONSGML v1.0//EN
CALSCALE:GREGORIAN
METHOD:PUBLISH
X-ORIGINAL-URL:https://www.georgeweinstein.com
X-WR-CALDESC:Events for George Weinstein
REFRESH-INTERVAL;VALUE=DURATION:PT1H
X-Robots-Tag:noindex
X-PUBLISHED-TTL:PT1H
BEGIN:VTIMEZONE
TZID:America/Halifax
BEGIN:DAYLIGHT
TZOFFSETFROM:-0400
TZOFFSETTO:-0300
TZNAME:ADT
DTSTART:20250309T060000
END:DAYLIGHT
BEGIN:STANDARD
TZOFFSETFROM:-0300
TZOFFSETTO:-0400
TZNAME:AST
DTSTART:20251102T050000
END:STANDARD
BEGIN:DAYLIGHT
TZOFFSETFROM:-0400
TZOFFSETTO:-0300
TZNAME:ADT
DTSTART:20260308T060000
END:DAYLIGHT
BEGIN:STANDARD
TZOFFSETFROM:-0300
TZOFFSETTO:-0400
TZNAME:AST
DTSTART:20261101T050000
END:STANDARD
BEGIN:DAYLIGHT
TZOFFSETFROM:-0400
TZOFFSETTO:-0300
TZNAME:ADT
DTSTART:20270314T060000
END:DAYLIGHT
BEGIN:STANDARD
TZOFFSETFROM:-0300
TZOFFSETTO:-0400
TZNAME:AST
DTSTART:20271107T050000
END:STANDARD
END:VTIMEZONE
BEGIN:VEVENT
DTSTART;TZID=America/Halifax:20260207T140000
DTEND;TZID=America/Halifax:20260207T160000
DTSTAMP:20260423T150059
CREATED:20260204T180200Z
LAST-MODIFIED:20260204T180200Z
UID:1662-1770472800-1770480000@www.georgeweinstein.com
SUMMARY:Book Signing at 2nd & Charles
DESCRIPTION:Together with my wife\, author Kim Conrey\, we will be signing books at 2nd & Charles in Kennesaw.
URL:https://www.georgeweinstein.com/event/book-signing-at-2nd-charles/
LOCATION:2nd & Charles\, 815 Ernest W Barrett Pkwy NW\, Kennesaw\, GA\, 30144
CATEGORIES:Booksigning
END:VEVENT
END:VCALENDAR